BEGIN:VCALENDAR
PRODID:NingEventWidget-v1
VERSION:2.0
METHOD:PUBLISH
BEGIN:VEVENT
UID:1150197:Event:1734678
DTSTAMP:20260425T165306Z
SUMMARY:2013 Wisconsin Corgi Picnic
DESCRIPTION:2013 Wisconsin Corgi Picnic @ the Jefferson County Dog Par
 k (small dog area) located on Hwy. 26 between Jefferson and Johnson Cr
 eek. Bring your Corgi and family for a day of fun! Items will be raffl
 ed off with proceeds going to both CorgiAid, Inc. and FaeriLand Corgi 
 Rescue. Raffle ticket prices are $1 = 1 ticket, $5 = 6 tickets.\nPleas
 e bring your Corgi and a dish to pass. Cost is $5/dog (payable to the 
 Jefferson County Parks & Rec Dept.)\nFor questions or to be e-mailed a
  copy of the flier please contact Andrea at:\nflicker_lockpicker@hotma
 il.com\nSUBJECT LINE: WI Corgi Picnic\n\n\n\nFor more information visi
 t http://mycorgi.com/events/2013-wisconsin-corgi-picnic
DTSTART:20130907T170000Z
DTEND:20130907T210000Z
CATEGORIES:picnic, "&", funraiser
LOCATION:Jefferson County Dog Park (Small Dog area)
WEBSITE:http://www.jeffersoncountywi.gov/jc/public/jchome.php?page_id=
 610
URL:http://www.jeffersoncountywi.gov/jc/public/jchome.php?page_id=610
CONTACT:
ORGANIZER;CN=Flicker:http://mycorgi.com/profile/Andrea86
ATTACH;FMTTYPE="image/jpeg":http://storage.ning.com/topology/rest/1.0/
 file/get/3156048290?profile=original
ATTENDEE;ROLE=REQ-PARTICIPANT;PARTSTAT=ACCEPTED;RSVP=TRUE;CN="Angela K
 au-Forsberg":http://mycorgi.com/profile/AngelaKauForsberg
ATTENDEE;ROLE=REQ-PARTICIPANT;PARTSTAT=ACCEPTED;RSVP=TRUE;CN=CorGeek:h
 ttp://mycorgi.com/profile/AnneRosenberger
ATTENDEE;ROLE=REQ-PARTICIPANT;PARTSTAT=ACCEPTED;RSVP=TRUE;CN="Maureen 
 McMahon":http://mycorgi.com/profile/MaureenMcMahon
ATTENDEE;ROLE=REQ-PARTICIPANT;PARTSTAT=ACCEPTED;RSVP=TRUE;CN="Diana Di
 ssen":http://mycorgi.com/profile/DianaDissen
ATTENDEE;ROLE=REQ-PARTICIPANT;PARTSTAT=ACCEPTED;RSVP=TRUE;CN="Eve B. L
 ee and Charity":http://mycorgi.com/profile/EveBLee212
ATTENDEE;ROLE=REQ-PARTICIPANT;PARTSTAT=ACCEPTED;RSVP=TRUE;CN=CorgiCraz
 y:http://mycorgi.com/profile/SarahGoetz
ATTENDEE;ROLE=REQ-PARTICIPANT;PARTSTAT=ACCEPTED;RSVP=TRUE;CN="Grace  E
 itel":http://mycorgi.com/profile/GraceKatherineEitel
ATTENDEE;ROLE=REQ-PARTICIPANT;PARTSTAT=ACCEPTED;RSVP=TRUE;CN="Shandy &
  Ginni":http://mycorgi.com/profile/Pamela543
ATTENDEE;ROLE=REQ-PARTICIPANT;PARTSTAT=ACCEPTED;RSVP=TRUE;CN="Dawn Pet
 ersen":http://mycorgi.com/profile/DawnPetersen
ATTENDEE;ROLE=REQ-PARTICIPANT;PARTSTAT=ACCEPTED;RSVP=TRUE;CN="Marie Wi
 shmann":http://mycorgi.com/profile/MarieWishmann
ATTENDEE;ROLE=REQ-PARTICIPANT;PARTSTAT=ACCEPTED;RSVP=TRUE;CN="vicky hy
 de":http://mycorgi.com/profile/vickyhyde
ATTENDEE;ROLE=REQ-PARTICIPANT;PARTSTAT=ACCEPTED;RSVP=TRUE;CN="Ashley a
 nd Zorro":http://mycorgi.com/profile/AshleyMSchroeder
ATTENDEE;ROLE=REQ-PARTICIPANT;PARTSTAT=ACCEPTED;RSVP=TRUE;CN=Sarah:htt
 p://mycorgi.com/profile/Sarah335
ATTENDEE;ROLE=REQ-PARTICIPANT;PARTSTAT=ACCEPTED;RSVP=TRUE;CN="Domonic 
 D'Acquisto":http://mycorgi.com/profile/DomonicDAcquisto
ATTENDEE;ROLE=REQ-PARTICIPANT;PARTSTAT=ACCEPTED;RSVP=TRUE;CN="Alex Liu
 ":http://mycorgi.com/profile/AlexLiu
ATTENDEE;ROLE=REQ-PARTICIPANT;PARTSTAT=ACCEPTED;RSVP=TRUE;CN=Julia:htt
 p://mycorgi.com/profile/JuliaChurchill
ATTENDEE;ROLE=REQ-PARTICIPANT;PARTSTAT=ACCEPTED;RSVP=TRUE;CN="Becky S"
 :http://mycorgi.com/profile/BeckySenn
ATTENDEE;ROLE=REQ-PARTICIPANT;PARTSTAT=ACCEPTED;RSVP=TRUE;CN="Nicholas
 , Kailee, & Gilby":http://mycorgi.com/profile/Nicholas
ATTENDEE;ROLE=REQ-PARTICIPANT;PARTSTAT=ACCEPTED;RSVP=TRUE;CN=Gracii:ht
 tp://mycorgi.com/profile/Kitsie
ATTENDEE;ROLE=REQ-PARTICIPANT;PARTSTAT=ACCEPTED;RSVP=TRUE;CN="LA Stewa
 rt":http://mycorgi.com/profile/LisaAndersonStewart
ATTENDEE;ROLE=REQ-PARTICIPANT;PARTSTAT=ACCEPTED;RSVP=TRUE;CN=Flicker:h
 ttp://mycorgi.com/profile/Andrea86
ATTENDEE;ROLE=REQ-PARTICIPANT;PARTSTAT=TENTATIVE;RSVP=TRUE;CN="Colleen
  M":http://mycorgi.com/profile/pembrokewcorgi
ATTENDEE;ROLE=REQ-PARTICIPANT;PARTSTAT=TENTATIVE;RSVP=TRUE;CN="carolyn
  matassa":http://mycorgi.com/profile/carolynmatassa
ATTENDEE;ROLE=REQ-PARTICIPANT;PARTSTAT=TENTATIVE;RSVP=TRUE;CN="Ashley 
 Garner":http://mycorgi.com/profile/AshleyGarner102
ATTENDEE;ROLE=REQ-PARTICIPANT;PARTSTAT=TENTATIVE;RSVP=TRUE;CN=Cassandr
 a:http://mycorgi.com/profile/Cassandra
ATTENDEE;ROLE=REQ-PARTICIPANT;PARTSTAT=TENTATIVE;RSVP=TRUE;CN="Lisa Ma
 rie":http://mycorgi.com/profile/LisaTatem
ATTENDEE;ROLE=REQ-PARTICIPANT;PARTSTAT=TENTATIVE;RSVP=TRUE;CN=Angie:ht
 tp://mycorgi.com/profile/Angie120
END:VEVENT
END:VCALENDAR
