BEGIN:VCALENDAR
PRODID:NingEventWidget-v1
VERSION:2.0
METHOD:PUBLISH
BEGIN:VEVENT
UID:1150197:Event:1867070
DTSTAMP:20260420T052903Z
SUMMARY:Andrea De Leo
DESCRIPTION:http://members.ebay.com/ws/eBayISAPI.dll?ViewUserPage&user
 id=delilone65\n\nItems available for your consideration.\nOriginal one
  of a kind paintings available on eBay.\nA portion of final sale will 
 go to CorgiAid.\n\nThanks for looking...\n\nFor more information visit
  http://mycorgi.com/events/andrea-de-leo
DTSTART:20140607T220000Z
DTEND:20140614T230000Z
CATEGORIES:auction
LOCATION:eBay. com
WEBSITE:http://members.ebay.com/ws/eBayISAPI.dll?ViewUserPage&userid=d
 elilone65
URL:http://members.ebay.com/ws/eBayISAPI.dll?ViewUserPage&userid=delil
 one65
CONTACT:
ORGANIZER;CN="Andrea De Leo":http://mycorgi.com/profile/AndreaDeLeo
ATTACH;FMTTYPE="image/jpeg":
ATTENDEE;ROLE=REQ-PARTICIPANT;PARTSTAT=ACCEPTED;RSVP=TRUE;CN="Andrea D
 e Leo":http://mycorgi.com/profile/AndreaDeLeo
END:VEVENT
END:VCALENDAR
