BEGIN:VCALENDAR
PRODID:NingEventWidget-v1
VERSION:2.0
METHOD:PUBLISH
BEGIN:VEVENT
UID:1150197:Event:477930
DTSTAMP:20260422T042407Z
SUMMARY:Bailey comes home :-)
DESCRIPTION:Our baby girl will join us on Friday. We are picking her u
 p in Bakersfield (about 2 hour drive from our house) at 9:30am. I am s
 o excited and can't wait to have our little bundle of energy with us..
 .\nWhen we picked our little Bailey about three weeks ago, I thought t
 his day would never come. The wait was not easy, but thankfully it is 
 almost over :-)\n\nFor more information visit http://mycorgi.com/event
 s/bailey-comes-home
DTSTART:20090724T133000Z
DTEND:20090724T160000Z
CATEGORIES:homecoming
LOCATION:Bakersfield, CA
WEBSITE:
URL:
CONTACT:
ORGANIZER;CN="Miri, Bailey and Cali":http://mycorgi.com/profile/Miri
ATTACH;FMTTYPE="image/jpeg":http://storage.ning.com/topology/rest/1.0/
 file/get/3155875229?profile=original
ATTENDEE;ROLE=REQ-PARTICIPANT;PARTSTAT=ACCEPTED;RSVP=TRUE;CN="Miri, Ba
 iley and Cali":http://mycorgi.com/profile/Miri
END:VEVENT
END:VCALENDAR
