BEGIN:VCALENDAR
PRODID:NingEventWidget-v1
VERSION:2.0
METHOD:PUBLISH
BEGIN:VEVENT
UID:1150197:Event:928450
DTSTAMP:20260419T212336Z
SUMMARY:Bark for Life
DESCRIPTION:It's time for the Bark for Life dog walk again!  This eve
 nt is hosted by the American Cancer Society and will be held in Cook P
 ark in Colonie this year.  For all event details, please visit this l
 ink-\nhttp://main.acsevents.org/site/TR/RelayForLife/BFLFY11EA?sid=100
 3&type=fr_informational&pg=informational&fr_id=35140\n\nFor more infor
 mation visit http://mycorgi.com/events/bark-for-life-1
DTSTART:20110430T130000Z
DTEND:20110430T160000Z
CATEGORIES:dog, walk
LOCATION:Cook Park in Colonie, NY
WEBSITE:http://maps.google.com/maps?q=cook+park+colonie+NY&rls=com.mic
 rosoft:en-us:IE-SearchBox&oe=UTF-8&rlz=1I7TSNA_enUS382US382&um=1&ie=UT
 F-8&hq=&hnear=Cook+Park,+Colonie,+NY+12205&gl=us&ei=SHqBTadh4cfRAcT2xf
 0I&sa=X&oi=geocode_result&ct=title&resnum=1&ved=0CBgQ8gEwAA
URL:http://maps.google.com/maps?q=cook+park+colonie+NY&rls=com.microso
 ft:en-us:IE-SearchBox&oe=UTF-8&rlz=1I7TSNA_enUS382US382&um=1&ie=UTF-8&
 hq=&hnear=Cook+Park,+Colonie,+NY+12205&gl=us&ei=SHqBTadh4cfRAcT2xf0I&s
 a=X&oi=geocode_result&ct=title&resnum=1&ved=0CBgQ8gEwAA
CONTACT:
ORGANIZER:The American Cancer Society
ATTACH;FMTTYPE="image/jpeg":
ATTENDEE;ROLE=REQ-PARTICIPANT;PARTSTAT=ACCEPTED;RSVP=TRUE;CN="Jill, Ka
 ri & Jackson":http://mycorgi.com/profile/JillandKari
END:VEVENT
END:VCALENDAR
