BEGIN:VCALENDAR
PRODID:NingEventWidget-v1
VERSION:2.0
METHOD:PUBLISH
BEGIN:VEVENT
UID:1150197:Event:976879
DTSTAMP:20260420T125941Z
SUMMARY:Barkin' Beach Bash - 2011 Walk for Animals
DESCRIPTION:I am co-captaining my team with a fellow corgi owner, Pame
 la (of Pamela & Bailey).  Our team is named Team Low Rider 2 and is m
 ostly made up of corgi owners - fellow members of the San Diego Corgi 
 Meetup group.  Our team has a goal of raising $2,000.00 for the San D
 iego Humane Society by May 7th, the day of the event.  The original Te
 am Low Rider, headed by Geri and her corgi Sidney, has made a consider
 able donation to the Escondido Humane Society this year for the  Paws
  in the Park event, that took place on March 27th.  We would like to 
 live up to the Team LowRider reputation and raise an impressive amount
  as well.\n \nGeri & Sidney are also members of Team Low Rider 2!  If
  you would like to join or donate to Team Low Rider 2 for Walk For The
  Animals, please visit our pages here:  Team Low Rider 2 Page\n \nWe 
 had a t-shirt designed and it is currently for sale at Zazzle.  The d
 esign is the event picture. Choose from a one sided Team graphic tee f
 or UNDER $14 or customize yours with the name and photo of your corgi 
 on the back. All proceeds from the sale (10%) will be donated to the S
 an Diego Humane Society.  Here's the Zazzle link \n&nbsp;\n \n\nFor mo
 re information visit http://mycorgi.com/events/barkin-beach-bash-2011-
 walk
DTSTART:20110507T130000Z
DTEND:20110507T160000Z
CATEGORIES:fundraiser, "walk for animals"
LOCATION:Crown Point Shores, Mission Bay
WEBSITE:http://www.sdhumane.org/site/TR/Events/2011Walk?sid=1090&type=
 fr_informational&pg=informational&fr_id=1080
URL:http://www.sdhumane.org/site/TR/Events/2011Walk?sid=1090&type=fr_i
 nformational&pg=informational&fr_id=1080
CONTACT:
ORGANIZER;CN="Krystle (Luna & Twinkie!)":http://mycorgi.com/profile/Kr
 ystle417
ATTACH;FMTTYPE="image/jpeg":http://storage.ning.com/topology/rest/1.0/
 file/get/3155966937?profile=original
ATTENDEE;ROLE=REQ-PARTICIPANT;PARTSTAT=ACCEPTED;RSVP=TRUE;CN="Krystle 
 (Luna & Twinkie!)":http://mycorgi.com/profile/Krystle417
END:VEVENT
END:VCALENDAR
