BEGIN:VCALENDAR
PRODID:NingEventWidget-v1
VERSION:2.0
METHOD:PUBLISH
BEGIN:VEVENT
UID:1150197:Event:457418
DTSTAMP:20260422T085049Z
SUMMARY:Bringing my baby home!
DESCRIPTION:She's turning 8 weeks old and is ready to come home!\n\nFo
 r more information visit http://mycorgi.com/events/bringing-my-baby-ho
 me
DTSTART:20090717T180000Z
DTEND:20090717T220000Z
CATEGORIES:celebration
LOCATION:Mom's Car
WEBSITE:
URL:
CONTACT:
ORGANIZER;CN="Erin & Faye":http://mycorgi.com/profile/Faye
ATTACH;FMTTYPE="image/jpeg":
ATTENDEE;ROLE=REQ-PARTICIPANT;PARTSTAT=ACCEPTED;RSVP=TRUE;CN="Erin & F
 aye":http://mycorgi.com/profile/Faye
END:VEVENT
END:VCALENDAR
