BEGIN:VCALENDAR
PRODID:NingEventWidget-v1
VERSION:2.0
METHOD:PUBLISH
BEGIN:VEVENT
UID:1150197:Event:977051
DTSTAMP:20260420T010224Z
SUMMARY:Brynn
DESCRIPTION:Today Brynn is 4 years.\n\nFor more information visit http
 ://mycorgi.com/events/brynn-1
DTSTART:20110409T220000Z
DTEND:20110409T230000Z
CATEGORIES:birthday, wishes
LOCATION:At this group
WEBSITE:
URL:
CONTACT:
ORGANIZER;CN="cheryl m kaplan":http://mycorgi.com/profile/cherylmkapla
 n
ATTACH;FMTTYPE="image/jpeg":
ATTENDEE;ROLE=REQ-PARTICIPANT;PARTSTAT=ACCEPTED;RSVP=TRUE;CN="cheryl m
  kaplan":http://mycorgi.com/profile/cherylmkaplan
END:VEVENT
END:VCALENDAR
