BEGIN:VCALENDAR
PRODID:NingEventWidget-v1
VERSION:2.0
METHOD:PUBLISH
BEGIN:VEVENT
UID:1150197:Event:473804
DTSTAMP:20260422T042444Z
SUMMARY:Central FL Corgis July Meetup
DESCRIPTION:Join us for our July meetup! It's sure to be a fun time fo
 r you and your corgis. There's nothing better than watching a corgi wr
 estling match, wouldn't ya'll agree? We'll meet at Downey Park in East
  Orlando. The park is located at the intersection of East Colonial and
  Dean Road. Hope to see ya'll there! Also, if you haven't joined the C
 entral FL Corgis group, please do! The more the merrier!\n\nFor more i
 nformation visit http://mycorgi.com/events/central-fl-corgis-july-meet
 up
DTSTART:20090725T210000Z
DTEND:20090725T224500Z
CATEGORIES:meetup
LOCATION:Downey Dog Park
WEBSITE:http://maps.google.com/maps?f=q&source=s_q&hl=en&geocode=&q=10
 107+Flowers+Ave,+Orlando,+FL+32825&sll=37.0625,-95.677068&sspn=34.3132
 87,79.013672&ie=UTF8&ll=28.56809,-81.241686&spn=0.009291,0.01929&z=16&
 iwloc=A
URL:http://maps.google.com/maps?f=q&source=s_q&hl=en&geocode=&q=10107+
 Flowers+Ave,+Orlando,+FL+32825&sll=37.0625,-95.677068&sspn=34.313287,7
 9.013672&ie=UTF8&ll=28.56809,-81.241686&spn=0.009291,0.01929&z=16&iwlo
 c=A
CONTACT:305-924-0103
ORGANIZER;CN="Stanley & Charlotte":http://mycorgi.com/profile/stanley
ATTACH;FMTTYPE="image/jpeg":http://storage.ning.com/topology/rest/1.0/
 file/get/3155877374?profile=original
ATTENDEE;ROLE=REQ-PARTICIPANT;PARTSTAT=ACCEPTED;RSVP=TRUE;CN=Tonya:htt
 p://mycorgi.com/profile/Tonya98
ATTENDEE;ROLE=REQ-PARTICIPANT;PARTSTAT=ACCEPTED;RSVP=TRUE;CN="Stanley 
 & Charlotte":http://mycorgi.com/profile/stanley
ATTENDEE;ROLE=REQ-PARTICIPANT;PARTSTAT=TENTATIVE;RSVP=TRUE;CN=JH:http:
 //mycorgi.com/profile/JH
ATTENDEE;ROLE=REQ-PARTICIPANT;PARTSTAT=TENTATIVE;RSVP=TRUE;CN="Suse Sc
 heimreif":http://mycorgi.com/profile/SuseScheimreif
ATTENDEE;ROLE=REQ-PARTICIPANT;PARTSTAT=TENTATIVE;RSVP=TRUE;CN="DR, Nal
 a & Simon":http://mycorgi.com/profile/DIRRNala
END:VEVENT
END:VCALENDAR
