BEGIN:VCALENDAR
PRODID:NingEventWidget-v1
VERSION:2.0
METHOD:PUBLISH
BEGIN:VEVENT
UID:1150197:Event:906752
DTSTAMP:20260420T065541Z
SUMMARY:Central FL Corgis March Meetup
DESCRIPTION:Join the fun!  We'll meet at 3pm in the large dog section
  of this park.  Please bring water for your pups and a chair if you w
 ish to sit.  See you there!\n\nFor more information visit http://myco
 rgi.com/events/central-fl-corgis-march-meetup
DTSTART:20110319T190000Z
DTEND:20110319T213000Z
CATEGORIES:meetup
LOCATION:Barnett Dog Park in Orlando, FL
WEBSITE:http://maps.google.com/maps?oe=UTF-8&ie=UTF8&q=barnett+dog+par
 k+orlando&fb=1&gl=us&hq=barnett+dog+park&hnear=Orlando,+FL&cid=0,0,846
 679962868936738&ll=28.553861,-81.440942&spn=0.009085,0.01929&z=16&iwlo
 c=A
URL:http://maps.google.com/maps?oe=UTF-8&ie=UTF8&q=barnett+dog+park+or
 lando&fb=1&gl=us&hq=barnett+dog+park&hnear=Orlando,+FL&cid=0,0,8466799
 62868936738&ll=28.553861,-81.440942&spn=0.009085,0.01929&z=16&iwloc=A
CONTACT:
ORGANIZER;CN="Stanley & Charlotte":http://mycorgi.com/profile/stanley
ATTACH;FMTTYPE="image/jpeg":
ATTENDEE;ROLE=REQ-PARTICIPANT;PARTSTAT=ACCEPTED;RSVP=TRUE;CN="Parker a
 nd Barbara":http://mycorgi.com/profile/BarbaraMartin
ATTENDEE;ROLE=REQ-PARTICIPANT;PARTSTAT=ACCEPTED;RSVP=TRUE;CN="Emily, L
 izzie, and Oliver":http://mycorgi.com/profile/EmilyandLizzie
ATTENDEE;ROLE=REQ-PARTICIPANT;PARTSTAT=ACCEPTED;RSVP=TRUE;CN="Stanley 
 & Charlotte":http://mycorgi.com/profile/stanley
ATTENDEE;ROLE=REQ-PARTICIPANT;PARTSTAT=TENTATIVE;RSVP=TRUE;CN=Mela:htt
 p://mycorgi.com/profile/Mela
ATTENDEE;ROLE=REQ-PARTICIPANT;PARTSTAT=TENTATIVE;RSVP=TRUE;CN=Cody:htt
 p://mycorgi.com/profile/AprilSpann
END:VEVENT
END:VCALENDAR
