BEGIN:VCALENDAR
PRODID:NingEventWidget-v1
VERSION:2.0
METHOD:PUBLISH
BEGIN:VEVENT
UID:1150197:Event:971577
DTSTAMP:20260419T212240Z
SUMMARY:Central Florida Corgis Meetup
DESCRIPTION:*We'll be \"renting\" the facility just for our corgi meet
 up group. The admission fee is $2 per dog and the money raised goes to
 wards the University of Doglando Foundation (A Community Service Outre
 ach Program). In addition to the admission fee, you will be required t
 o provide current paperwork for your dog to attend. All dogs must have
  current DHLPP, Rabies, and yearly Bordatella (Kennel Cough) vaccinati
 ons. This is a great facility with of 3 acres of land with playground 
 equipment, tiki hut, wading pool and more! We've had two meetups at th
 is location in the past that were hugely successful and soooo much fun
 ! The University of Doglando can be located at:http://www.universityof
 doglando.com/doglando-location/From I4, take 408 East, to Alafya Trl. 
 Get off the Alafaya Trail Exit, and make a left, heading North on Alaf
 aya Trl. Make a Right on Colonial to head East. Go past Bill's Carwash
 , past Cricket Club Apartments and make an immediate right after the A
 pt complex, at the big red fire hydrant mailbox onto the single road. 
 Follow the road (heading south), behind the storage facility.\n\nFor m
 ore information visit http://mycorgi.com/events/central-florida-corgis
 -meetup
DTSTART:20110410T190000Z
DTEND:20110410T210000Z
CATEGORIES:meetup
LOCATION:University of Doglando on East Colonial in Orlando
WEBSITE:http://www.universityofdoglando.com/doglando-location/
URL:http://www.universityofdoglando.com/doglando-location/
CONTACT:
ORGANIZER;CN="Stanley & Charlotte":http://mycorgi.com/profile/stanley
ATTACH;FMTTYPE="image/jpeg":
ATTENDEE;ROLE=REQ-PARTICIPANT;PARTSTAT=ACCEPTED;RSVP=TRUE;CN="Presley,
  Gibson and Pat":http://mycorgi.com/profile/kernelbivin
ATTENDEE;ROLE=REQ-PARTICIPANT;PARTSTAT=ACCEPTED;RSVP=TRUE;CN="Stanley 
 & Charlotte":http://mycorgi.com/profile/stanley
END:VEVENT
END:VCALENDAR
