BEGIN:VCALENDAR
PRODID:NingEventWidget-v1
VERSION:2.0
METHOD:PUBLISH
BEGIN:VEVENT
UID:1150197:Event:918860
DTSTAMP:20260420T100139Z
SUMMARY:Chantilly Dog Park Meet Up
DESCRIPTION:Come on out and let your wild side run free..\nJoin on in 
 for a great time meet and greet for Corgi owners. I'll be there from 1
 0 to 11 a.m. and do need to get some sleep afterwards as I work night 
 shift.\nPlease bring treats, water and clean up bags for any accidents
 . Also reminder that due to Fairfax County restrictions your dog must 
 have their county regstration tag and rabies tag on them at all times.
 \nIn the event of incliment weather there is no meeting, a future date
  will be posted.\nP.S. Please let me know your comming, that way I can
  look for you. I won't be hard to spot, just look for the goofy lookin
 g IT guy and Jazmin running around being, well a Corgi.\n\nFor more in
 formation visit http://mycorgi.com/events/chantilly-dog-park-meet-up
DTSTART:20110312T150000Z
DTEND:20110312T160000Z
CATEGORIES:meet, up
LOCATION:Chantilly Dog Park
WEBSITE:
URL:
CONTACT:
ORGANIZER;CN=Don:http://mycorgi.com/profile/Don
ATTACH;FMTTYPE="image/jpeg":
ATTENDEE;ROLE=REQ-PARTICIPANT;PARTSTAT=ACCEPTED;RSVP=TRUE;CN=Don:http:
 //mycorgi.com/profile/Don
END:VEVENT
END:VCALENDAR
