BEGIN:VCALENDAR
PRODID:NingEventWidget-v1
VERSION:2.0
METHOD:PUBLISH
BEGIN:VEVENT
UID:1150197:Event:1851587
DTSTAMP:20260420T130444Z
SUMMARY:CORGI-CON in East Central Illinois
DESCRIPTION:Â \n\nÂ Â Â CORGI-CON\nÂ  Â  May 17, 2014Â Â Â Â Â Â Â Â \
 nÂ Â  Â  Â 12 â€“ 4 PMÂ Â Â Â Â Â Â Â Â Â Â Â Â Â Â Â Â Â Â Â Â Â Â Â 
 Â Â Â Â Â \nÂ  Urbana Dog Park\nJoin the Corgi Convention!\nÂ \nThis i
 s our 3rd Corgi Convention. Â Corgis will love a chance to run and pla
 y in a safe environment.Â  Humans will enjoy watching the herding and 
 wrestling.Â  Everyone is welcome.Â  Please bring your cameras!\nÂ \nTh
 e Urbana Dog Park is a 10 acre fenced dog park with double-gated entra
 nces for safety and is located at 1501 East Perkins Road in Urbana, Il
 linois.\n(The dog park is about 1 mile off Interstate 74. Use Exit 184
 , head SOUTH on US-45/Cunningham Ave.\nTurn LEFT on East Perkins Road 
 and drive half a mile.Â  The Urbana Dog Park is on the right.)\nÂ \nDa
 ily admission passes are available at the dog park for non-members.\nF
 ill out the admission form and place it along with $5 per dog in the e
 nvelope provided.\nBe prepared with your dogsâ€™ rabies information fo
 r the Urbana Park Districtâ€™s form.\nÂ \nDog Park Rules:Â  No puppies
  under the age of 4 months are allowed in the dog park.\nÂ Â Â Â Â Â Â
  Â Â Â Â Â Â Â Â Â Â Â Â Â Â Â Â Â Â Â Â  Â Â Â There is a maximum of 
 3 dogs per adult.\nÂ Â Â Â Â Â Â Â Â Â Â Â Â Â Â Â Â Â Â Â Â Â Â Â Â Â
  Â  Â Â Â Children must be at least 6 years old & supervised by an adu
 lt.\nÂ Â Â Â Â Â Â Â Â Â Â Â Â Â Â Â Â Â Â Â Â Â Â Â Â Â Â  Â Â Â NO F
 ood (people food, dog food, or dog treats) is allowed in the park.\nFo
 r more information about the Urbana Dog Park... Â http://www.urbanapar
 ks.org/facilities/55.html\nÂ \nQuestions?Â  Contact CORGICON@yahoo.com
 \n\nFor more information visit http://mycorgi.com/events/corgi-con-in-
 east-central-illinois-2
DTSTART:20140517T160000Z
DTEND:20140517T200000Z
CATEGORIES:corgi, play, date
LOCATION:Urbana Dog Park
WEBSITE:http://www.urbanaparks.org/facilities/55.html
URL:http://www.urbanaparks.org/facilities/55.html
CONTACT:
ORGANIZER;CN="LA Stewart":http://mycorgi.com/profile/LisaAndersonStewa
 rt
ATTACH;FMTTYPE="image/jpeg":http://storage.ning.com/topology/rest/1.0/
 file/get/3156104473?profile=original
ATTENDEE;ROLE=REQ-PARTICIPANT;PARTSTAT=ACCEPTED;RSVP=TRUE;CN="Nicole, 
 Channing & Charlie":http://mycorgi.com/profile/NicoleDesJardins
ATTENDEE;ROLE=REQ-PARTICIPANT;PARTSTAT=ACCEPTED;RSVP=TRUE;CN="Charles 
 Jenkins":http://mycorgi.com/profile/CharlesJenkins
ATTENDEE;ROLE=REQ-PARTICIPANT;PARTSTAT=ACCEPTED;RSVP=TRUE;CN=Melissa:h
 ttp://mycorgi.com/profile/MelissaDalka
ATTENDEE;ROLE=REQ-PARTICIPANT;PARTSTAT=ACCEPTED;RSVP=TRUE;CN="Lisa and
  Izzie":http://mycorgi.com/profile/LisaMarie
ATTENDEE;ROLE=REQ-PARTICIPANT;PARTSTAT=ACCEPTED;RSVP=TRUE;CN="Kevin Ph
 illips":http://mycorgi.com/profile/KevinPhillips
ATTENDEE;ROLE=REQ-PARTICIPANT;PARTSTAT=ACCEPTED;RSVP=TRUE;CN=Stephanie
 :http://mycorgi.com/profile/StephaniePhillips
ATTENDEE;ROLE=REQ-PARTICIPANT;PARTSTAT=ACCEPTED;RSVP=TRUE;CN="LA Stewa
 rt":http://mycorgi.com/profile/LisaAndersonStewart
END:VEVENT
END:VCALENDAR
