BEGIN:VCALENDAR
PRODID:NingEventWidget-v1
VERSION:2.0
METHOD:PUBLISH
BEGIN:VEVENT
UID:1150197:Event:1705163
DTSTAMP:20260425T201549Z
SUMMARY:Corgi Day at Iron Fist Brewery
DESCRIPTION:Please join us at Iron Fist Brewery in Vista, California f
 or brews, woodfired pizza, shopping, raffle prizes and the chance to h
 elp Team Low Rider help the Escondido Humane Society.\nIgnore the link
  for Iron Fist, it's not right! I did not enter it and I cannot seem t
 o be able to remove it. Sorry!\n\nFor more information visit http://my
 corgi.com/events/corgi-day-at-iron-fist-brewery
DTSTART:20130302T170000Z
DTEND:20130302T220000Z
CATEGORIES:fundraiser
LOCATION:Iron Fist Brewery
WEBSITE:http://maps.google.com/maps?oe=utf-8&rls=org.mozilla:en-US:off
 icial&client=firefox-a&um=1&ie=UTF-8&q=iron+fist+brewery&fb=1&gl=us&hq
 =iron+fist+brewery&hnear=0x80dc0b03e71173e7:0x785c1389e14bf78d,Vista,+
 CA&cid=0,0,14283811313168807105&sa=X&ei=RkchUYPDPISE2QXFj4D4AQ&ved=0CI
 YBEPwSMAA
URL:http://maps.google.com/maps?oe=utf-8&rls=org.mozilla:en-US:officia
 l&client=firefox-a&um=1&ie=UTF-8&q=iron+fist+brewery&fb=1&gl=us&hq=iro
 n+fist+brewery&hnear=0x80dc0b03e71173e7:0x785c1389e14bf78d,Vista,+CA&c
 id=0,0,14283811313168807105&sa=X&ei=RkchUYPDPISE2QXFj4D4AQ&ved=0CIYBEP
 wSMAA
CONTACT:
ORGANIZER;CN="Geri & Sidney":http://mycorgi.com/profile/GeriSidney
ATTACH;FMTTYPE="image/jpeg":http://storage.ning.com/topology/rest/1.0/
 file/get/3156097213?profile=original
ATTENDEE;ROLE=REQ-PARTICIPANT;PARTSTAT=ACCEPTED;RSVP=TRUE;CN="Liz and 
 Sadie":http://mycorgi.com/profile/Liz683
ATTENDEE;ROLE=REQ-PARTICIPANT;PARTSTAT=ACCEPTED;RSVP=TRUE;CN="Geri & S
 idney":http://mycorgi.com/profile/GeriSidney
END:VEVENT
END:VCALENDAR
