BEGIN:VCALENDAR
PRODID:NingEventWidget-v1
VERSION:2.0
METHOD:PUBLISH
BEGIN:VEVENT
UID:1150197:Event:1776830
DTSTAMP:20260425T121503Z
SUMMARY:Corgi Meet at Heather Farm Dog Park (Walnut Creek, CA)
DESCRIPTION:Corgi Meet at Heather Farm Dog Park, Walnut Creek, CA.Sat
 urday, July 20th, 2013\n(use GPS data 550 N San Carlos Drive, Walnut C
 reek, CA. \nAll corgis and mixes welcome. Another meet at the same l
 ocation will be on August 24th, 2013, 8:30. From then ongoing, it is s
 cheduled for the 4th Saturday of each month. (Paso Nogal meets in Ple
 asant Hill, CA, are on the second Saturday of each month. )\n\nFor mor
 e information visit http://mycorgi.com/events/corgi-meet-at-heather-fa
 rm-dog-park-walnut-creek-ca-1
DTSTART:20130720T121500Z
DTEND:20130720T133000Z
CATEGORIES:informal, corgi, get-together
LOCATION:Heather Farm Dog Park, Walnut Creek, CA
WEBSITE:http://files.meetup.com/8555612/Heather%20Farm%20Dog%20Park%20
 with%20address.jpg
URL:http://files.meetup.com/8555612/Heather%20Farm%20Dog%20Park%20with
 %20address.jpg
CONTACT:
ORGANIZER;CN="Regina Scholz":http://mycorgi.com/profile/ReginaScholz
ATTACH;FMTTYPE="image/jpeg":http://storage.ning.com/topology/rest/1.0/
 file/get/3156121287?profile=original
ATTENDEE;ROLE=REQ-PARTICIPANT;PARTSTAT=ACCEPTED;RSVP=TRUE;CN="Regina S
 cholz":http://mycorgi.com/profile/ReginaScholz
END:VEVENT
END:VCALENDAR
