BEGIN:VCALENDAR
PRODID:NingEventWidget-v1
VERSION:2.0
METHOD:PUBLISH
BEGIN:VEVENT
UID:1150197:Event:951072
DTSTAMP:20260419T231646Z
SUMMARY:Corgi Meetup - Sunday April 10th at 1PM at the Kingston State 
 Part, Kingston NH
DESCRIPTION:We will be having a Meetup at Kingston State Park in Kings
 ton NH on May 16th at 1PM.\nHope some of you can join us - we usually
  have pretty good turn out for this location .\n\nFor more information
  visit http://mycorgi.com/events/corgi-meetup-sunday-april
DTSTART:20110410T170000Z
DTEND:20110410T183000Z
CATEGORIES:corgi, meetup
LOCATION:Kingston State Park
WEBSITE:
URL:
CONTACT:
ORGANIZER;CN=pat_m:http://mycorgi.com/profile/pat_m
ATTACH;FMTTYPE="image/jpeg":
ATTENDEE;ROLE=REQ-PARTICIPANT;PARTSTAT=ACCEPTED;RSVP=TRUE;CN="Jeff & C
 heryl Weber":http://mycorgi.com/profile/JeffCherylWeber
ATTENDEE;ROLE=REQ-PARTICIPANT;PARTSTAT=ACCEPTED;RSVP=TRUE;CN=pat_m:htt
 p://mycorgi.com/profile/pat_m
ATTENDEE;ROLE=REQ-PARTICIPANT;PARTSTAT=TENTATIVE;RSVP=TRUE;CN="Jocelyn
  Benzaia":http://mycorgi.com/profile/JocelynBenzaia
ATTENDEE;ROLE=REQ-PARTICIPANT;PARTSTAT=TENTATIVE;RSVP=TRUE;CN=Jessica:
 http://mycorgi.com/profile/JessicaLeibovitz
END:VEVENT
END:VCALENDAR
