BEGIN:VCALENDAR
PRODID:NingEventWidget-v1
VERSION:2.0
METHOD:PUBLISH
BEGIN:VEVENT
UID:1150197:Event:905619
DTSTAMP:20260420T113342Z
SUMMARY:Corgi Meetup - Sunday March 6th at 3:30 PM at North Beach - Ha
 mpton NH
DESCRIPTION:Come to North Beach, Hampton NH. Sunday, Nov 28th @ noon.F
 or all who haven't been to our meetings at North Beach--- we meet arou
 nd the Handicap parking which is a few hundred yards South on 1A from 
 the lights at High Street.Please let me know if you need more informat
 ion.\n\nFor more information visit http://mycorgi.com/events/corgi-mee
 tup-sunday-march-6th
DTSTART:20110306T203000Z
DTEND:20110306T220000Z
CATEGORIES:corgi, meetup
LOCATION:North Beach - Hampton NH
WEBSITE:
URL:
CONTACT:
ORGANIZER;CN=pat_m:http://mycorgi.com/profile/pat_m
ATTACH;FMTTYPE="image/jpeg":
ATTENDEE;ROLE=REQ-PARTICIPANT;PARTSTAT=ACCEPTED;RSVP=TRUE;CN="Jeff & C
 heryl Weber":http://mycorgi.com/profile/JeffCherylWeber
ATTENDEE;ROLE=REQ-PARTICIPANT;PARTSTAT=ACCEPTED;RSVP=TRUE;CN=pat_m:htt
 p://mycorgi.com/profile/pat_m
END:VEVENT
END:VCALENDAR
