BEGIN:VCALENDAR
PRODID:NingEventWidget-v1
VERSION:2.0
METHOD:PUBLISH
BEGIN:VEVENT
UID:1150197:Event:1026931
DTSTAMP:20260425T151759Z
SUMMARY:Corgi Meetup - Sunday May 15th PM at Kingston State Park, King
 ston NH
DESCRIPTION:We will be having a Corgi Meetup at Kingston State Park in
  Kningston NH on 5/15/11 from noon to 2 or so\n\nWe were on having a 
 cook out at this one We'll have the hot dogs, a grill and a table.  W
 e're hoping others will bring what ever else they wish to share,\n\nMo
 st of all, we want you to come with or without food, there will is alw
 ays enough to go around. The more dogs the better!!!\n\nFor more infor
 mation visit http://mycorgi.com/events/corgi-meetup-sunday-may-15th
DTSTART:20110515T160000Z
DTEND:20110515T180000Z
CATEGORIES:corgi, meetup
LOCATION:Kingston State Park
WEBSITE:
URL:
CONTACT:
ORGANIZER;CN=pat_m:http://mycorgi.com/profile/pat_m
ATTACH;FMTTYPE="image/jpeg":
ATTENDEE;ROLE=REQ-PARTICIPANT;PARTSTAT=ACCEPTED;RSVP=TRUE;CN=pat_m:htt
 p://mycorgi.com/profile/pat_m
END:VEVENT
END:VCALENDAR
