BEGIN:VCALENDAR
PRODID:NingEventWidget-v1
VERSION:2.0
METHOD:PUBLISH
BEGIN:VEVENT
UID:1150197:Event:1804289
DTSTAMP:20260425T101054Z
SUMMARY:Corgi Playdate/meetup
DESCRIPTION:Corgi meetup. Fleetwood PA. RSVP\nAll dogs must have proof
  of vaccinations per facility.\n\nFor more information visit http://my
 corgi.com/events/corgi-playdate-meetup
DTSTART:20131005T200000Z
DTEND:20131005T220000Z
CATEGORIES:meetup
LOCATION:awesome dawgs
WEBSITE:http://www.awesomedawgs.com
URL:http://www.awesomedawgs.com
CONTACT:
ORGANIZER;CN=Teresa:http://mycorgi.com/profile/Teresa268
ATTACH;FMTTYPE="image/jpeg":http://storage.ning.com/topology/rest/1.0/
 file/get/3156131342?profile=original
ATTENDEE;ROLE=REQ-PARTICIPANT;PARTSTAT=ACCEPTED;RSVP=TRUE;CN=Lori:http
 ://mycorgi.com/profile/loriarochino
ATTENDEE;ROLE=REQ-PARTICIPANT;PARTSTAT=ACCEPTED;RSVP=TRUE;CN="Jenny an
 d Django":http://mycorgi.com/profile/JennyandDjango
ATTENDEE;ROLE=REQ-PARTICIPANT;PARTSTAT=ACCEPTED;RSVP=TRUE;CN=Teresa:ht
 tp://mycorgi.com/profile/Teresa268
END:VEVENT
END:VCALENDAR
