BEGIN:VCALENDAR
PRODID:NingEventWidget-v1
VERSION:2.0
METHOD:PUBLISH
BEGIN:VEVENT
UID:1150197:Event:1846334
DTSTAMP:20260420T064844Z
SUMMARY:Corgi Sunday Funday hosted by PWCCGS
DESCRIPTION:See flyer for details; This event also benefits Corgi resc
 ue and the Pembroke Welsh Corgi Club of the Garden State\nFUNDAY_SAVED
 ATE2-email.pdf\n\nFor more information visit http://mycorgi.com/events
 /corgi-sunday-funday-hosted-by-pwccgs
DTSTART:20140622T140000Z
DTEND:20140622T190000Z
CATEGORIES:fun, "&", games, with, your, corgi, in, new, jersey
LOCATION:readington township, new jersey 08822
WEBSITE:http://www.pwcorgiclubgs.org/corgifunday.html
URL:http://www.pwcorgiclubgs.org/corgifunday.html
CONTACT:
ORGANIZER;CN=Kathi:http://mycorgi.com/profile/Kathi
ATTACH;FMTTYPE="image/jpeg":
ATTENDEE;ROLE=REQ-PARTICIPANT;PARTSTAT=ACCEPTED;RSVP=TRUE;CN=TriColors
 :http://mycorgi.com/profile/TriColors
ATTENDEE;ROLE=REQ-PARTICIPANT;PARTSTAT=ACCEPTED;RSVP=TRUE;CN=Kathi:htt
 p://mycorgi.com/profile/Kathi
END:VEVENT
END:VCALENDAR
