BEGIN:VCALENDAR
PRODID:NingEventWidget-v1
VERSION:2.0
METHOD:PUBLISH
BEGIN:VEVENT
UID:1150197:Event:1866394
DTSTAMP:20260420T065541Z
SUMMARY:CT Corgi Meet!!!
DESCRIPTION:Our monthly meet in New Haven!!! on 6/7/14 at Fort Hale Pa
 rk from 11-2 :-)  Hope to see you all there!\n\nFor more information 
 visit http://mycorgi.com/events/ct-corgi-meet-2
DTSTART:20140607T150000Z
DTEND:20140607T180000Z
CATEGORIES:corgi, meet
LOCATION:Fort Hale Dog Park, New Haven, CT
WEBSITE:
URL:
CONTACT:
ORGANIZER;CN="Margaret & Isaac":http://mycorgi.com/profile/MargaretPec
 kham
ATTACH;FMTTYPE="image/jpeg":
ATTENDEE;ROLE=REQ-PARTICIPANT;PARTSTAT=ACCEPTED;RSVP=TRUE;CN="Margaret
  & Isaac":http://mycorgi.com/profile/MargaretPeckham
ATTENDEE;ROLE=REQ-PARTICIPANT;PARTSTAT=TENTATIVE;RSVP=TRUE;CN="Lori Od
 ishoo":http://mycorgi.com/profile/LoriOdishoo
END:VEVENT
END:VCALENDAR
