BEGIN:VCALENDAR
PRODID:NingEventWidget-v1
VERSION:2.0
METHOD:PUBLISH
BEGIN:VEVENT
UID:1150197:Event:470889
DTSTAMP:20260422T104603Z
SUMMARY:Dog Days of Summer at First Landing State Park
DESCRIPTION:Dog Days of Summer at First Landing State Park\n\nRegion: 
 Tidewater and Hampton Roads\nLocality: Virginia Beach City\n\nFirst La
 nding State Park\n2500 Shore Drive\nVirginia Beach, VA 23451\n\n\nEnjo
 y a fun-filled day for you, your family and your four-legged best frie
 nd. Take in a demonstration by the Virginia Beach Police canine unit, 
 a dog fashion show, kids' crafts, exhibits and much more. Pets must be
  kept on a leash no longer than six feet while in the park.\n\nDate/Ho
 urs:\nSaturday, July 18, 2009 (1:00 PM-5:00 PM)\n\n\nAdmission Fee: $0
 .00\n\nChildren Welcome\n\nTelephone:\nvoice: (757) 412-2300\ntoll-fre
 e: (800) 933-PARK\n\n\n\nSource: \n\nFor more information visit http:/
 /mycorgi.com/events/dog-days-of-summer-at-first
DTSTART:20090713T220000Z
DTEND:20090713T230000Z
CATEGORIES:city, event
LOCATION:First Landing State Park
WEBSITE:http://www.virginia.org/Site/description.asp?attrID=45813
URL:http://www.virginia.org/Site/description.asp?attrID=45813
CONTACT:
ORGANIZER:Virginia State Parks
ATTACH;FMTTYPE="image/jpeg":
ATTENDEE;ROLE=REQ-PARTICIPANT;PARTSTAT=ACCEPTED;RSVP=TRUE;CN="Dez Hunt
 er":http://mycorgi.com/profile/DezHunter
END:VEVENT
END:VCALENDAR
