BEGIN:VCALENDAR
PRODID:NingEventWidget-v1
VERSION:2.0
METHOD:PUBLISH
BEGIN:VEVENT
UID:1150197:Event:976808
DTSTAMP:20260419T155145Z
SUMMARY:Dog Fest 2011
DESCRIPTION:Come celebrate our 8th Annual Dog Fest EventIt's the Dog D
 ay Street Party of the Year!Pet VendorsLive EntertainmentFood & Drink 
 SpecialsLive MusicPet Contests (Best Look-A-Like, Best Costume, Best T
 rick)Moonwalk Bounce HouseFace Painter$10 DonationFree admission for a
 ll pets & childrenRain or ShineALL DOGS MUST BE ON A 6-FT LEASH RESTRA
 INT AT ALL TIMES!!!\n\nFor more information visit http://mycorgi.com/e
 vents/dog-fest-2011
DTSTART:20110417T180000Z
DTEND:20110417T230000Z
CATEGORIES:fundraiser, -, for, the, cian, griffin, cystic, fibrosis, "
 fund."
LOCATION:Downtown Orlando, FL
WEBSITE:http://www.facebook.com/group.php?gid=23969459995&v=info
URL:http://www.facebook.com/group.php?gid=23969459995&v=info
CONTACT:
ORGANIZER:Dog Fest Planning Committee
ATTACH;FMTTYPE="image/jpeg":http://storage.ning.com/topology/rest/1.0/
 file/get/3155966934?profile=original
ATTENDEE;ROLE=REQ-PARTICIPANT;PARTSTAT=ACCEPTED;RSVP=TRUE;CN="April an
 d Lady":http://mycorgi.com/profile/KAYHAWKINS
END:VEVENT
END:VCALENDAR
