BEGIN:VCALENDAR
PRODID:NingEventWidget-v1
VERSION:2.0
METHOD:PUBLISH
BEGIN:VEVENT
UID:1150197:Event:918847
DTSTAMP:20260420T082103Z
SUMMARY:Dulles Super Pet Expo Chantilly
DESCRIPTION:Come on out for the Super Pet Expo in Dulles Town Centner 
 in Chantilly.\n**Leashed pets are welcomed**\nSHOW HOURS:Friday, March
  18, 2011 4 PM - 9 PM Saturday, March 19, 2011 10 AM - 7 PM Sunday, Ma
 rch 20, 2011 10 AM - 5 PM\n\nFor more information visit http://mycorgi
 .com/events/dulles-super-pet-expo
DTSTART:20110318T200000Z
DTEND:20110320T210000Z
CATEGORIES:expo
LOCATION:Dulles Exp Center
WEBSITE:
URL:
CONTACT:
ORGANIZER;CN=Don:http://mycorgi.com/profile/Don
ATTACH;FMTTYPE="image/jpeg":
ATTENDEE;ROLE=REQ-PARTICIPANT;PARTSTAT=ACCEPTED;RSVP=TRUE;CN=Don:http:
 //mycorgi.com/profile/Don
END:VEVENT
END:VCALENDAR
