BEGIN:VCALENDAR
PRODID:NingEventWidget-v1
VERSION:2.0
METHOD:PUBLISH
BEGIN:VEVENT
UID:1150197:Event:988537
DTSTAMP:20260420T132336Z
SUMMARY:Dumb Friends League Furry Scurry
DESCRIPTION:Please join us for this two-mile walk for animals in Washi
 ngton Park at 9 a.m. on Saturday, May 7, benefiting the Dumb Friends L
 eague.\nThis fundraiser helps us care for as many as 25,000 homeless
  pets every year and provide valuable services to our community. \nRE
 GISTRATION TIMES\nDay-of registration will begin at 7 a.m. Walk will 
 commence at 9 a.m.\nEVENT FESTIVITIES\nEnjoy refreshments and demonstr
 ations before, during and after the walk.\nShop our Flealess Market fo
 r pet-friendly merchandise and services offered by more than 130 vendo
 rs. \nEnter our Pet/Person Look-alike, Best Pet Kisser, Best Tail Wag
 ger and Best Trick contests beginning at 9:45 a.m.\nLOCATION\nWashingt
 on Park1000 S. Downing St.Denver, CO 80209\nRegistration Fee: $50\n\nF
 or more information visit http://mycorgi.com/events/dumb-friends-leagu
 e-furry
DTSTART:20110507T130000Z
DTEND:20110507T190000Z
CATEGORIES:fundraiser
LOCATION:Washington Park
WEBSITE:http://support.ddfl.org/site/TR?fr_id=1090&pg=entry
URL:http://support.ddfl.org/site/TR?fr_id=1090&pg=entry
CONTACT:(303) 751-5772
ORGANIZER:Denver Dumb Friends League
ATTACH;FMTTYPE="image/jpeg":
ATTENDEE;ROLE=REQ-PARTICIPANT;PARTSTAT=ACCEPTED;RSVP=TRUE;CN="Heather 
 Mason":http://mycorgi.com/profile/HeatherMason
END:VEVENT
END:VCALENDAR
