BEGIN:VCALENDAR
PRODID:NingEventWidget-v1
VERSION:2.0
METHOD:PUBLISH
BEGIN:VEVENT
UID:1150197:Event:1860800
DTSTAMP:20260420T034838Z
SUMMARY:Faery Tails Corgi Rescue Picnic, Auction, and Raffle
DESCRIPTION:DATE: Saturday, June 14th \nTIME: 11AM  to 3PM\nLOCAT
 ION: AKC Museum of the Dog, Queeny Park\nTheme: nascorgis\nAnnual Fu
 ndraiser and Good Times\n\nFor more information visit http://mycorgi.c
 om/events/faery-tails-corgi-rescue-picnic-auction-and-raffle-2
DTSTART:20140614T150000Z
DTEND:20140614T190000Z
CATEGORIES:fundraiser, picnic
LOCATION:AKC Museum of The Dog
WEBSITE:http://www.corgirescuestlouis.org
URL:http://www.corgirescuestlouis.org
CONTACT:
ORGANIZER;CN="Jill M":http://mycorgi.com/profile/JillM
ATTACH;FMTTYPE="image/jpeg":http://storage.ning.com/topology/rest/1.0/
 file/get/3156150555?profile=original
ATTENDEE;ROLE=REQ-PARTICIPANT;PARTSTAT=ACCEPTED;RSVP=TRUE;CN="Charles 
 Jenkins":http://mycorgi.com/profile/CharlesJenkins
ATTENDEE;ROLE=REQ-PARTICIPANT;PARTSTAT=ACCEPTED;RSVP=TRUE;CN="Amanda E
 laine":http://mycorgi.com/profile/AmandaElaine
ATTENDEE;ROLE=REQ-PARTICIPANT;PARTSTAT=ACCEPTED;RSVP=TRUE;CN=Robin:htt
 p://mycorgi.com/profile/RobinLawrence
ATTENDEE;ROLE=REQ-PARTICIPANT;PARTSTAT=ACCEPTED;RSVP=TRUE;CN="Jill M":
 http://mycorgi.com/profile/JillM
END:VEVENT
END:VCALENDAR
