BEGIN:VCALENDAR
PRODID:NingEventWidget-v1
VERSION:2.0
METHOD:PUBLISH
BEGIN:VEVENT
UID:1150197:Event:1946806
DTSTAMP:20260419T081243Z
SUMMARY:Ginger the Corgi
DESCRIPTION:Our Ginger is 9 today.  She and Fred are such great buddi
 es.\n\nFor more information visit http://mycorgi.com/events/ginger-the
 -corgi
DTSTART:20160521T040000Z
DTEND:20160522T035900Z
CATEGORIES:birthday
LOCATION:Our Place
WEBSITE:
URL:
CONTACT:
ORGANIZER;CN="Bruce C. Sdunek":http://mycorgi.com/profile/BruceCSdunek
ATTACH;FMTTYPE="image/jpeg":
ATTENDEE;ROLE=REQ-PARTICIPANT;PARTSTAT=ACCEPTED;RSVP=TRUE;CN="Bruce C.
  Sdunek":http://mycorgi.com/profile/BruceCSdunek
END:VEVENT
END:VCALENDAR
