BEGIN:VCALENDAR
PRODID:NingEventWidget-v1
VERSION:2.0
METHOD:PUBLISH
BEGIN:VEVENT
UID:1150197:Event:964553
DTSTAMP:20260419T174220Z
SUMMARY:Huey's Birthday
DESCRIPTION:Huey Lewis Pruitt is turning 4 years old today! Please wis
 h him a Happy Bday!\n\nFor more information visit http://mycorgi.com/e
 vents/hueys-birthday
DTSTART:20110426T040000Z
DTEND:20110427T035900Z
CATEGORIES:birthday
LOCATION:Houston Texas
WEBSITE:
URL:
CONTACT:
ORGANIZER;CN="Suzie Pruitt":http://mycorgi.com/profile/SuziePruitt
ATTACH;FMTTYPE="image/jpeg":http://storage.ning.com/topology/rest/1.0/
 file/get/3155965864?profile=original
ATTENDEE;ROLE=REQ-PARTICIPANT;PARTSTAT=ACCEPTED;RSVP=TRUE;CN="Jessica 
 & Johann":http://mycorgi.com/profile/JessicaBauman
ATTENDEE;ROLE=REQ-PARTICIPANT;PARTSTAT=ACCEPTED;RSVP=TRUE;CN="Suzie Pr
 uitt":http://mycorgi.com/profile/SuziePruitt
ATTENDEE;ROLE=REQ-PARTICIPANT;PARTSTAT=TENTATIVE;RSVP=TRUE;CN="Emily &
  Scout":http://mycorgi.com/profile/EmilyMorris
ATTENDEE;ROLE=REQ-PARTICIPANT;PARTSTAT=TENTATIVE;RSVP=TRUE;CN="kabob +
  roxanne":http://mycorgi.com/profile/roxanne
END:VEVENT
END:VCALENDAR
