BEGIN:VCALENDAR
PRODID:NingEventWidget-v1
VERSION:2.0
METHOD:PUBLISH
BEGIN:VEVENT
UID:1150197:Event:1769931
DTSTAMP:20260425T134536Z
SUMMARY:Iowa Corgi Frap
DESCRIPTION:via Cindy Munier McDonald\nSave the date!!! The Iowa Corg
 i Frap aka Picnic at Foggy Bottom will be held on Saturday July 27th. 
 Eat a noonish-as usual, will be BBQ chicken and corn, drinks and table
  service provided by us. Please bring a side dish-salad or ummm, desse
 rts, to share. Yard is full fenced, pool will be open and of course, h
 orses, cows, chickens and ducks, oh a few geese too, to admire and bar
 k at. Corgi, corgi mixes, corgi wannabe's welcome or anyone who just n
 eeds a corgi fix. Come and enjoy the company of your fellow dog friend
 s.We are also going to hang out into the night for anyone interested-c
 orgi, non corgi, neighbors and friends, for a bonfire. What I do need
 .....is an RSVP from anyone planning to attend. I need to know much ch
 icken and of course, corn to get!\n\nFor more information visit http:/
 /mycorgi.com/events/iowa-corgi-frap-3
DTSTART:20130727T160000Z
DTEND:20130728T030000Z
CATEGORIES:picnic, "/", bonfire
LOCATION:Foggy Bottom
WEBSITE:http://www.foggybottomusa.com/website1_002.htm
URL:http://www.foggybottomusa.com/website1_002.htm
CONTACT:
ORGANIZER:Cindy Munier McDonald
ATTACH;FMTTYPE="image/jpeg":
ATTENDEE;ROLE=REQ-PARTICIPANT;PARTSTAT=ACCEPTED;RSVP=TRUE;CN="Charles 
 Jenkins":http://mycorgi.com/profile/CharlesJenkins
ATTENDEE;ROLE=REQ-PARTICIPANT;PARTSTAT=ACCEPTED;RSVP=TRUE;CN="Chris We
 st":http://mycorgi.com/profile/ChrisWest
END:VEVENT
END:VCALENDAR
