BEGIN:VCALENDAR
PRODID:NingEventWidget-v1
VERSION:2.0
METHOD:PUBLISH
BEGIN:VEVENT
UID:1150197:Event:991300
DTSTAMP:20260419T230501Z
SUMMARY:Meet up EDITS!!
DESCRIPTION:Hey everyone, it has been brought to my attention that my 
 previous event that I posted was on Mother's Day. If it's easier for e
 veryone to make it to this one I'll hold the meet up at the same park 
 on Sunday May 1. The address is:\n\n9301 Westminster Avenue\nGarden Gr
 ove‎ CA\nUnited States\n\nIf anyone has any questions or concerns yo
 u can give me a call at 323-205-6559.\n\n\nP.S. I will also leave the 
 event up for May 8 just incase that is a better day for everyone. Greg
  looks forward to seeing everyone and making some new puppy friends.\n
 \n\n-Jolly\n\nFor more information visit http://mycorgi.com/events/mee
 t-up-edits
DTSTART:20110501T160000Z
DTEND:20110501T210000Z
CATEGORIES:westminster, barking, lot
LOCATION:Next to the garden grove arena soccer
WEBSITE:
URL:
CONTACT:
ORGANIZER;CN="Jolly and Vicky":http://mycorgi.com/profile/Jolly
ATTACH;FMTTYPE="image/jpeg":
ATTENDEE;ROLE=REQ-PARTICIPANT;PARTSTAT=ACCEPTED;RSVP=TRUE;CN="Andrea D
 e Leo":http://mycorgi.com/profile/AndreaDeLeo
ATTENDEE;ROLE=REQ-PARTICIPANT;PARTSTAT=ACCEPTED;RSVP=TRUE;CN="ANGELA C
  LEE":http://mycorgi.com/profile/ANGELACLEE
ATTENDEE;ROLE=REQ-PARTICIPANT;PARTSTAT=ACCEPTED;RSVP=TRUE;CN="Reeses &
  Rosalie (Owner: Jes)":http://mycorgi.com/profile/ReesesRosalie
ATTENDEE;ROLE=REQ-PARTICIPANT;PARTSTAT=ACCEPTED;RSVP=TRUE;CN="Jolly an
 d Vicky":http://mycorgi.com/profile/Jolly
END:VEVENT
END:VCALENDAR
