BEGIN:VCALENDAR
PRODID:NingEventWidget-v1
VERSION:2.0
METHOD:PUBLISH
BEGIN:VEVENT
UID:1150197:Event:468267
DTSTAMP:20260422T061024Z
SUMMARY:Meetup - Kingston Dog Park - Kingston New Hampshire - July 19t
 h - 10 AM
DESCRIPTION:We will be having a Meetup Sunday July 19 at 10AM at the K
 ingston Dog Park in Kingston NH.\n\nThe park is is Fenced-in and Secur
 e. It is also fairly easy to find. Here is a link to their Web Site - 
 http://www.kingstondogpark.com/\n\nHope some of you can make it...\n\n
 Note the time - this is a morning Meetup\n\nFor more information visit
  http://mycorgi.com/events/meetup-kingston-dog-park-3
DTSTART:20090719T140000Z
DTEND:20090719T153000Z
CATEGORIES:corgi, meetup
LOCATION:Kingston Dog Park - Kingston New Hampshire
WEBSITE:http://www.kingstondogpark.com/
URL:http://www.kingstondogpark.com/
CONTACT:
ORGANIZER;CN=pat_m:http://mycorgi.com/profile/pat_m
ATTACH;FMTTYPE="image/jpeg":
ATTENDEE;ROLE=REQ-PARTICIPANT;PARTSTAT=ACCEPTED;RSVP=TRUE;CN=Jennifer:
 http://mycorgi.com/profile/Jennifer75
ATTENDEE;ROLE=REQ-PARTICIPANT;PARTSTAT=TENTATIVE;RSVP=TRUE;CN="donna g
 ":http://mycorgi.com/profile/donnaganczarski
ATTENDEE;ROLE=REQ-PARTICIPANT;PARTSTAT=TENTATIVE;RSVP=TRUE;CN=pat_m:ht
 tp://mycorgi.com/profile/pat_m
END:VEVENT
END:VCALENDAR
