BEGIN:VCALENDAR
PRODID:NingEventWidget-v1
VERSION:2.0
METHOD:PUBLISH
BEGIN:VEVENT
UID:1150197:Event:1762104
DTSTAMP:20260425T151635Z
SUMMARY:MIDWEST CORGI PICNIC
DESCRIPTION:Just an event held so we can have fun and support Corgi Ai
 d and Corgi Pals.  There will be games, a silent auction, food, and m
 uch more.  This is an off-leash dog park, and we will be on the small
  dog area.\nMore info and sign-up sheet can be found in the Midwest Co
 rgi facebook page\nT-SHIRTS are for sale on pre-order and you do not h
 ave to attend or even live in the Midwest to buy one!  Order is due b
 uy August 1st.  (Design is the event picture\n\nFor more information 
 visit http://mycorgi.com/events/midwest-corgi-picnic-1
DTSTART:20130907T150000Z
DTEND:20130907T230000Z
CATEGORIES:corgi, get-together, "&", picnic
LOCATION:Paul Ruster Park
WEBSITE:https://www.facebook.com/groups/342827779097149/
URL:https://www.facebook.com/groups/342827779097149/
CONTACT:
ORGANIZER;CN="Emily & Scout":http://mycorgi.com/profile/EmilyMorris
ATTACH;FMTTYPE="image/jpeg":http://storage.ning.com/topology/rest/1.0/
 file/get/3036616454?profile=original
ATTENDEE;ROLE=REQ-PARTICIPANT;PARTSTAT=ACCEPTED;RSVP=TRUE;CN="Carol Su
 mmerville":http://mycorgi.com/profile/CarolSummerville
ATTENDEE;ROLE=REQ-PARTICIPANT;PARTSTAT=ACCEPTED;RSVP=TRUE;CN="Grace  E
 itel":http://mycorgi.com/profile/GraceKatherineEitel
ATTENDEE;ROLE=REQ-PARTICIPANT;PARTSTAT=ACCEPTED;RSVP=TRUE;CN="Emily & 
 Scout":http://mycorgi.com/profile/EmilyMorris
ATTENDEE;ROLE=REQ-PARTICIPANT;PARTSTAT=TENTATIVE;RSVP=TRUE;CN="Ashley 
 Garner":http://mycorgi.com/profile/AshleyGarner102
ATTENDEE;ROLE=REQ-PARTICIPANT;PARTSTAT=TENTATIVE;RSVP=TRUE;CN="Larry D
 arling":http://mycorgi.com/profile/LarryDarling
ATTENDEE;ROLE=REQ-PARTICIPANT;PARTSTAT=TENTATIVE;RSVP=TRUE;CN="Roxane 
 Teixeira":http://mycorgi.com/profile/RoxaneTeixeira
END:VEVENT
END:VCALENDAR
