BEGIN:VCALENDAR
PRODID:NingEventWidget-v1
VERSION:2.0
METHOD:PUBLISH
BEGIN:VEVENT
UID:1150197:Event:1864734
DTSTAMP:20260420T100608Z
SUMMARY:New Pembroke Welsh Corgi Paintings up for Auction on Ebay.com 
 - A portion of final sale will go to CorgiAid,com
DESCRIPTION:Hello,\n\nPlease check out my latest paintings up for your
  consideration on Ebay.com.\nA portion of the final sale will go to Co
 rgiAid.\n\nHere is the link...\n\nhttp://members.ebay.com/ws/eBayISAPI
 .dll?ViewUserPage&userid=delilone65\n\n\nThanks for your support and h
 elping me to give to such a WONDERFUL organization!\n\nAndrea C. De Le
 o\n\n\nFor more information visit http://mycorgi.com/events/new-pembro
 ke-welsh-corgi-paintings-up-for-auction-on-ebay-com-a
DTSTART:20140523T220000Z
DTEND:20140530T220000Z
CATEGORIES:auction
LOCATION:Ebay.com
WEBSITE:http://members.ebay.com/ws/eBayISAPI.dll?ViewUserPage&userid=d
 elilone65
URL:http://members.ebay.com/ws/eBayISAPI.dll?ViewUserPage&userid=delil
 one65
CONTACT:
ORGANIZER;CN="Andrea De Leo":http://mycorgi.com/profile/AndreaDeLeo
ATTACH;FMTTYPE="image/jpeg":http://storage.ning.com/topology/rest/1.0/
 file/get/3156151544?profile=original
ATTENDEE;ROLE=REQ-PARTICIPANT;PARTSTAT=ACCEPTED;RSVP=TRUE;CN="Andrea D
 e Leo":http://mycorgi.com/profile/AndreaDeLeo
END:VEVENT
END:VCALENDAR
