BEGIN:VCALENDAR
PRODID:NingEventWidget-v1
VERSION:2.0
METHOD:PUBLISH
BEGIN:VEVENT
UID:1150197:Event:1868137
DTSTAMP:20260420T082312Z
SUMMARY:Nor Cal Summer Solstice Beach Day (NorCal CorgiCon)
DESCRIPTION:Starts at 10:00 am at Fort funston beach. Enter beach on s
 outh end of the park (go down staircase). There will be multiple conte
 sts all day, so be sure to check in at the sign in tent. Some water wi
 ll be available for humans and dogs, and some snacks as well. Bring yo
 ur own towel, etc. Weather will be around 67-70F, so plan accordingly.
  More details can be found on the Bay Area and Northern California Cor
 gis Facebook Page.\n\nFor more information visit http://mycorgi.com/ev
 ents/nor-cal-summer-solstice-beach-day-norcal-corgicon
DTSTART:20140621T140000Z
DTEND:20140621T180000Z
CATEGORIES:beach, party, for, corgis
LOCATION:Fort Funston Beach (south end)
WEBSITE:
URL:
CONTACT:
ORGANIZER;CN="Karen & Bailey":http://mycorgi.com/profile/Bailey
ATTACH;FMTTYPE="image/jpeg":http://storage.ning.com/topology/rest/1.0/
 file/get/3156152912?profile=original
ATTENDEE;ROLE=REQ-PARTICIPANT;PARTSTAT=ACCEPTED;RSVP=TRUE;CN="Karen & 
 Bailey":http://mycorgi.com/profile/Bailey
ATTENDEE;ROLE=REQ-PARTICIPANT;PARTSTAT=TENTATIVE;RSVP=TRUE;CN="Rebecca
  Marie O'Bryan":http://mycorgi.com/profile/rebeccamarieeschenburg
END:VEVENT
END:VCALENDAR
