BEGIN:VCALENDAR
PRODID:NingEventWidget-v1
VERSION:2.0
METHOD:PUBLISH
BEGIN:VEVENT
UID:1150197:Event:1790531
DTSTAMP:20260425T083237Z
SUMMARY:North Carolina Corgi Picnic
DESCRIPTION:Lunch, games, raffle and corgis everywhere.\nBring a canop
 y for shade.\nVisit the website for more information and sign-ups\n\nF
 or more information visit http://mycorgi.com/events/north-carolina-cor
 gi-picnic-2
DTSTART:20131012T140000Z
DTEND:20131012T210000Z
CATEGORIES:picnic, games, raffle
LOCATION:Teamwork Dog Training Facility
WEBSITE:http://shutterpaws.com/2013CorgiPicnic.html
URL:http://shutterpaws.com/2013CorgiPicnic.html
CONTACT:
ORGANIZER;CN="Roger/Laurie":http://mycorgi.com/profile/RogerOdiorne
ATTACH;FMTTYPE="image/jpeg":
ATTENDEE;ROLE=REQ-PARTICIPANT;PARTSTAT=ACCEPTED;RSVP=TRUE;CN="Mocha an
 d Frederick":http://mycorgi.com/profile/Frederick
ATTENDEE;ROLE=REQ-PARTICIPANT;PARTSTAT=ACCEPTED;RSVP=TRUE;CN="Pamm Mye
 rs":http://mycorgi.com/profile/PammMyers
ATTENDEE;ROLE=REQ-PARTICIPANT;PARTSTAT=ACCEPTED;RSVP=TRUE;CN="Roger/La
 urie":http://mycorgi.com/profile/RogerOdiorne
END:VEVENT
END:VCALENDAR
