BEGIN:VCALENDAR
PRODID:NingEventWidget-v1
VERSION:2.0
METHOD:PUBLISH
BEGIN:VEVENT
UID:1150197:Event:1859116
DTSTAMP:20260420T082515Z
SUMMARY:Oahu (Hawaii) Corgi Club May 24 Saturday
DESCRIPTION:We will be meeting at the new Ala Wai Dog Park this month.
  (assuming it's open)\nIf there needs to be a location change, we will
  post here OR on our Facebook Page:\nhttps://www.facebook.com/corgioah
 u\nOur little club is growing! We are up to 14 pups!\nCome join us!\n\
 nFor more information visit http://mycorgi.com/events/oahu-hawaii-corg
 i-club-may-24-saturday
DTSTART:20140524T140000Z
DTEND:20140524T160000Z
CATEGORIES:meet, up
LOCATION:Ala Wai Dog Park
WEBSITE:
URL:
CONTACT:
ORGANIZER;CN="Leslie Ross":http://mycorgi.com/profile/LeslieRoss
ATTACH;FMTTYPE="image/jpeg":
ATTENDEE;ROLE=REQ-PARTICIPANT;PARTSTAT=ACCEPTED;RSVP=TRUE;CN="Leslie R
 oss":http://mycorgi.com/profile/LeslieRoss
ATTENDEE;ROLE=REQ-PARTICIPANT;PARTSTAT=TENTATIVE;RSVP=TRUE;CN="Janalla
  & Pua Anoush":http://mycorgi.com/profile/JanChouljian
END:VEVENT
END:VCALENDAR
