BEGIN:VCALENDAR
PRODID:NingEventWidget-v1
VERSION:2.0
METHOD:PUBLISH
BEGIN:VEVENT
UID:1150197:Event:1773593
DTSTAMP:20260425T151512Z
SUMMARY:Ohio Corgi Meet-up
DESCRIPTION:We'd love to have you join us at the dog park+beach at Alu
 m Creek in Columbus, Ohio on August 3rd at 1:00pm. The more the merrie
 r!\n\nFor more information visit http://mycorgi.com/events/ohio-corgi-
 meet-up
DTSTART:20130803T170000Z
DTEND:20130803T190000Z
CATEGORIES:corgi, meet-up
LOCATION:Columbus, Ohio
WEBSITE:http://www.alumcreekdogpark.com/
URL:http://www.alumcreekdogpark.com/
CONTACT:
ORGANIZER;CN="Holly Hildreth":http://mycorgi.com/profile/HollyHildreth
ATTACH;FMTTYPE="image/jpeg":
ATTENDEE;ROLE=REQ-PARTICIPANT;PARTSTAT=ACCEPTED;RSVP=TRUE;CN="Holly Hi
 ldreth":http://mycorgi.com/profile/HollyHildreth
ATTENDEE;ROLE=REQ-PARTICIPANT;PARTSTAT=TENTATIVE;RSVP=TRUE;CN="Megan S
 andmann":http://mycorgi.com/profile/MeganSandmann
END:VEVENT
END:VCALENDAR
