BEGIN:VCALENDAR
PRODID:NingEventWidget-v1
VERSION:2.0
METHOD:PUBLISH
BEGIN:VEVENT
UID:1150197:Event:1695736
DTSTAMP:20260425T183030Z
SUMMARY:Pawdi Gras corgi style
DESCRIPTION:We are having a fund raiser in Feb on the 23rd at Bluebonn
 et Bunk & Biscuit in northern San Antonio, and would like to invite al
 l corgi lovers and their dogs to attend.  Check out the event on FB a
 lso.\n\nFor more information visit http://mycorgi.com/events/pawdi-gra
 s-corgi-style
DTSTART:20130223T150000Z
DTEND:20130223T200000Z
CATEGORIES:fund, raiser, for, corgi, "&", critters, "n.e.t.", rescue, 
 "inc."
LOCATION:Bluebonnet Bunk & Biscuit
WEBSITE:http://www.corgisncritters.org
URL:http://www.corgisncritters.org
CONTACT:
ORGANIZER;CN="Barbara B Blume":http://mycorgi.com/profile/BarbaraBBlum
 e
ATTACH;FMTTYPE="image/jpeg":http://storage.ning.com/topology/rest/1.0/
 file/get/3156093997?profile=original
ATTENDEE;ROLE=REQ-PARTICIPANT;PARTSTAT=ACCEPTED;RSVP=TRUE;CN="Barbara 
 B Blume":http://mycorgi.com/profile/BarbaraBBlume
END:VEVENT
END:VCALENDAR
