BEGIN:VCALENDAR
PRODID:NingEventWidget-v1
VERSION:2.0
METHOD:PUBLISH
BEGIN:VEVENT
UID:1150197:Event:914230
DTSTAMP:20260420T052936Z
SUMMARY:Paws in the Park 2011
DESCRIPTION:We are Team Low Rider! We will be participating in the Esc
 ondido Humane Society's annual fundraising walk on March 27th. If you 
 live in or near San Diego County and want to join us, we'd love to hav
 e you on the team!\nTo donate or to join:\nhttp://www.firstgiving.com/
 geristerling1\n\nFor more information visit http://mycorgi.com/events/
 paws-in-the-park-2011
DTSTART:20110327T120000Z
DTEND:20110327T150000Z
CATEGORIES:fundraising, walk
LOCATION:Kit Carson Park
WEBSITE:http://maps.google.com/maps/place?oe=utf-8&rls=org.mozilla:en-
 US:official&client=firefox-a&um=1&ie=UTF-8&q=kit+carson+park&fb=1&gl=u
 s&hq=kit+carson+park&hnear=Vista,+CA&cid=8027723304326118401
URL:http://maps.google.com/maps/place?oe=utf-8&rls=org.mozilla:en-US:o
 fficial&client=firefox-a&um=1&ie=UTF-8&q=kit+carson+park&fb=1&gl=us&hq
 =kit+carson+park&hnear=Vista,+CA&cid=8027723304326118401
CONTACT:
ORGANIZER;CN="Geri & Sidney":http://mycorgi.com/profile/GeriSidney
ATTACH;FMTTYPE="image/jpeg":http://storage.ning.com/topology/rest/1.0/
 file/get/3149014673?profile=original
ATTENDEE;ROLE=REQ-PARTICIPANT;PARTSTAT=ACCEPTED;RSVP=TRUE;CN="Geri & S
 idney":http://mycorgi.com/profile/GeriSidney
ATTENDEE;ROLE=REQ-PARTICIPANT;PARTSTAT=TENTATIVE;RSVP=TRUE;CN=Flintsto
 ne:http://mycorgi.com/profile/PatriciaMarklund
END:VEVENT
END:VCALENDAR
