BEGIN:VCALENDAR
PRODID:NingEventWidget-v1
VERSION:2.0
METHOD:PUBLISH
BEGIN:VEVENT
UID:1150197:Event:1761203
DTSTAMP:20260425T084903Z
SUMMARY:Pembroke Welsh Corgi Club of the Garden State Funday Sunday
DESCRIPTION:Get ready, one and all...for June 23, cause that's the day
  all the corgis are invited to come out to play!  \nYes, June 23, is 
 the Pembroke Welsh Corgi Club of the Garden State's biennial Funday Su
 nday event. Our club welcomes all corgis–along with corgi owners, pe
 rspective owners, family and friends to pack a picnic lunch and come j
 oin us at beautiful, rural Deer Path Park, Readington Township, NJ.  
 \n\nWe have a full day of corgi-centric activities planned with games,
  contests and demos to delight and inform.  Our staff of dedicated an
 d knowledgeable club volunteers supervise all the events, and are read
 y, willing and available to talk corgi and answer any questions you ma
 y have.  \nAdditionally, another important function of Funday Sunday 
 is raising funds to assist the PWCCGS Rescue Program with expenses inc
 urred in placing corgis in need in forever homes.  In patronizing our
  Corgi Boutique, Photo Tent and Corgi Raffle – offering a variety of
  corgi related items, a portion of the proceeds goes to our rescue pro
 gram. \nFor complete details on participating in the day's events, re
 gistration form printout or to pre-register, please visit our event we
 bpage:  http://www.pwcorgiclubgs.org/corgifunday.html\nYou are corgia
 lly invited join us and spread the word...FRAP – corgi for \"Freque
 nt Random Acts of Play\" at PWCCGS Funday Sunday!\n\nFor more informat
 ion visit http://mycorgi.com/events/pembroke-welsh-corgi-club-of-the-g
 arden-state-funday-sunday
DTSTART:20130623T140000Z
DTEND:20130623T190000Z
CATEGORIES:picnic, games, demos, fundraiser, rescue, parade, on, the, 
 lawn
LOCATION:Deer Path Park
WEBSITE:http://pwcorgiclubgs.org/corgifunday.html
URL:http://pwcorgiclubgs.org/corgifunday.html
CONTACT:Co-Chairs: Kathi Powers (732-699-0796) & Ed Sheppard (908-735-
 0507)
ORGANIZER:Pembroke Welsh Corgi Club of the Garden State
ATTACH;FMTTYPE="image/jpeg":
ATTENDEE;ROLE=REQ-PARTICIPANT;PARTSTAT=ACCEPTED;RSVP=TRUE;CN=TriColors
 :http://mycorgi.com/profile/TriColors
END:VEVENT
END:VCALENDAR
