BEGIN:VCALENDAR
PRODID:NingEventWidget-v1
VERSION:2.0
METHOD:PUBLISH
BEGIN:VEVENT
UID:1150197:Event:1757218
DTSTAMP:20260425T102319Z
SUMMARY:Philly Area Corgi Picnic
DESCRIPTION:Philly Area Corgi Picnic, June 29 at Hibernia Park, Coates
 ville, PA, Pavilion 5.\n\nFor more information visit http://mycorgi.co
 m/events/philly-area-corgi-picnic-1
DTSTART:20130629T140000Z
DTEND:20130629T200000Z
CATEGORIES:picnic
LOCATION:Hibernia Park, Coatesville, PA
WEBSITE:
URL:
CONTACT:
ORGANIZER:Philly Area Corgis
ATTACH;FMTTYPE="image/jpeg":
ATTENDEE;ROLE=REQ-PARTICIPANT;PARTSTAT=ACCEPTED;RSVP=TRUE;CN="Tiph, Ja
 red & Cora the Corgi":http://mycorgi.com/profile/TiphJaredCoratheCorgi
ATTENDEE;ROLE=REQ-PARTICIPANT;PARTSTAT=ACCEPTED;RSVP=TRUE;CN="Carol an
 d Gracie":http://mycorgi.com/profile/graciepoo
ATTENDEE;ROLE=REQ-PARTICIPANT;PARTSTAT=TENTATIVE;RSVP=TRUE;CN="Madelin
 e and Bella":http://mycorgi.com/profile/MadelineKraus
END:VEVENT
END:VCALENDAR
