BEGIN:VCALENDAR
PRODID:NingEventWidget-v1
VERSION:2.0
METHOD:PUBLISH
BEGIN:VEVENT
UID:1150197:Event:1019456
DTSTAMP:20260420T113140Z
SUMMARY:Phoenix Pet Expo
DESCRIPTION:Www.phoenixpetexpo.com\n\nFor more information visit http:
 //mycorgi.com/events/phoenix-pet-expo
DTSTART:20110507T140000Z
DTEND:20110507T220000Z
CATEGORIES:expo, vendors, competitions
LOCATION:University of Phoenix Stadium
WEBSITE:http://Www.phoenixpetexpo.com
URL:http://Www.phoenixpetexpo.com
CONTACT:
ORGANIZER;CN="Carolyn and Gracie":http://mycorgi.com/profile/CarolynPr
 yde
ATTACH;FMTTYPE="image/jpeg":
ATTENDEE;ROLE=REQ-PARTICIPANT;PARTSTAT=ACCEPTED;RSVP=TRUE;CN="Nicole a
 nd Kiba":http://mycorgi.com/profile/KibaCorgi
ATTENDEE;ROLE=REQ-PARTICIPANT;PARTSTAT=ACCEPTED;RSVP=TRUE;CN="Samantha
  Hulke Aljets":http://mycorgi.com/profile/SamanthaHulkeAljets
ATTENDEE;ROLE=REQ-PARTICIPANT;PARTSTAT=ACCEPTED;RSVP=TRUE;CN="Carolyn 
 and Gracie":http://mycorgi.com/profile/CarolynPryde
END:VEVENT
END:VCALENDAR
