BEGIN:VCALENDAR
PRODID:NingEventWidget-v1
VERSION:2.0
METHOD:PUBLISH
BEGIN:VEVENT
UID:1150197:Event:1697421
DTSTAMP:20260425T165034Z
SUMMARY:Rhode Island Corgi Play Date?
DESCRIPTION:this isnt a formal thing... yet. i'm wondering if there wo
 uld be any interest in a corgi meet-up for any Rhode Island corgis out
  there.\nA new INDOOR dog park opened up in Warwick in December, and i
  think a corgi invasion would be amazing. check them out here.\ni fee
 l like a Sunday would work out best. Let me know if you'd be down to p
 lay! \n\nFor more information visit http://mycorgi.com/events/rhode-i
 sland-corgi-play-date
DTSTART:20130217T170000Z
DTEND:20130217T210000Z
CATEGORIES:meet-up
LOCATION:Warwick, RI (bow chika wow town Indoor dog park)
WEBSITE:http://www.bowchikawowtown.com/
URL:http://www.bowchikawowtown.com/
CONTACT:
ORGANIZER;CN="Dori & Julie =)":http://mycorgi.com/profile/JulieElkovic
 h
ATTACH;FMTTYPE="image/jpeg":
ATTENDEE;ROLE=REQ-PARTICIPANT;PARTSTAT=ACCEPTED;RSVP=TRUE;CN=Felicia:h
 ttp://mycorgi.com/profile/Felicia267
ATTENDEE;ROLE=REQ-PARTICIPANT;PARTSTAT=ACCEPTED;RSVP=TRUE;CN="Nancy Li
 u":http://mycorgi.com/profile/NancyLiu
ATTENDEE;ROLE=REQ-PARTICIPANT;PARTSTAT=ACCEPTED;RSVP=TRUE;CN="Dori & J
 ulie =)":http://mycorgi.com/profile/JulieElkovich
END:VEVENT
END:VCALENDAR
