BEGIN:VCALENDAR
PRODID:NingEventWidget-v1
VERSION:2.0
METHOD:PUBLISH
BEGIN:VEVENT
UID:1150197:Event:479751
DTSTAMP:20260422T022602Z
SUMMARY:San Diego Corgi Meetup
DESCRIPTION:The dog park is at the south end of the Rancho Bernardo co
 mmunity park, just past the baseball fields.\n\nFor more information v
 isit http://mycorgi.com/events/san-diego-corgi-meetup-1
DTSTART:20090724T140000Z
DTEND:20090724T160000Z
CATEGORIES:dog, park
LOCATION:Rancho Bernardo Dog Park
WEBSITE:
URL:
CONTACT:858-538-8129
ORGANIZER;CN="Geri & Sidney":http://mycorgi.com/profile/GeriSidney
ATTACH;FMTTYPE="image/jpeg":
ATTENDEE;ROLE=REQ-PARTICIPANT;PARTSTAT=ACCEPTED;RSVP=TRUE;CN="Geri & S
 idney":http://mycorgi.com/profile/GeriSidney
END:VEVENT
END:VCALENDAR
