BEGIN:VCALENDAR
PRODID:NingEventWidget-v1
VERSION:2.0
METHOD:PUBLISH
BEGIN:VEVENT
UID:1150197:Event:981997
DTSTAMP:20260419T174340Z
SUMMARY:Savannah Kennel Club Doggie Easter Egg Hunt - April 17
DESCRIPTION:Doggie easter bonnet contest & easter egg hunt. No entry f
 ee.\n\nFor more information visit http://mycorgi.com/events/savannah-k
 ennel-club-doggie
DTSTART:20110417T170000Z
DTEND:20110417T200000Z
CATEGORIES:easter, celebration
LOCATION:Daffin Park
WEBSITE:http://www.savannahkennelclub.org/Website/Community-Events.htm
 l
URL:http://www.savannahkennelclub.org/Website/Community-Events.html
CONTACT:912-429-1781
ORGANIZER:Savannah Kennel Club
ATTACH;FMTTYPE="image/jpeg":http://storage.ning.com/topology/rest/1.0/
 file/get/3155966901?profile=original
ATTENDEE;ROLE=REQ-PARTICIPANT;PARTSTAT=ACCEPTED;RSVP=TRUE;CN="Stephani
 e McVay":http://mycorgi.com/profile/StephanieMcVay
END:VEVENT
END:VCALENDAR
