BEGIN:VCALENDAR
PRODID:NingEventWidget-v1
VERSION:2.0
METHOD:PUBLISH
BEGIN:VEVENT
UID:1150197:Event:978973
DTSTAMP:20260420T004248Z
SUMMARY:Stroll For Strays
DESCRIPTION:Registration starts at 1:00.  Walk starts at 2:00.\nDonat
 ions are requested, but not necessarily required.\nT-shirts (limited n
 umber) available for $20 donation\nWater and treats are provided.\n\nF
 or more information visit http://mycorgi.com/events/stroll-for-strays
DTSTART:20110501T180000Z
DTEND:20110501T200000Z
CATEGORIES:dog, walk
LOCATION:Hoover Field
WEBSITE:http://www.wagsandtails.org/index.html
URL:http://www.wagsandtails.org/index.html
CONTACT:
ORGANIZER:Montgomery County Humane Society
ATTACH;FMTTYPE="image/jpeg":http://storage.ning.com/topology/rest/1.0/
 file/get/3155966880?profile=original
ATTENDEE;ROLE=REQ-PARTICIPANT;PARTSTAT=ACCEPTED;RSVP=TRUE;CN="Emily & 
 Scout":http://mycorgi.com/profile/EmilyMorris
END:VEVENT
END:VCALENDAR
