BEGIN:VCALENDAR
PRODID:NingEventWidget-v1
VERSION:2.0
METHOD:PUBLISH
BEGIN:VEVENT
UID:1150197:Event:905123
DTSTAMP:20260419T193148Z
SUMMARY:Strut Your Mutt
DESCRIPTION:Dog Owners are invited to bring their pets to Clemson Y be
 ach where they and their dogs can enjoy an assortment of activities, d
 emonstrations and games.  The main event of the morning is the walk, 
 where dog owners will strut their mutts around the perimeter of the Y 
 beach property.  Procedes will support local animal shelters.\n\nFor 
 more information visit http://mycorgi.com/events/strut-your-mutt
DTSTART:20110416T130000Z
DTEND:20110416T170000Z
CATEGORIES:fundraiser
LOCATION:YMCA Beach
WEBSITE:http://email-  strut@clemson.edu
URL:http://email-  strut@clemson.edu
CONTACT:864-656-2206
ORGANIZER:
ATTACH;FMTTYPE="image/jpeg":
ATTENDEE;ROLE=REQ-PARTICIPANT;PARTSTAT=ACCEPTED;RSVP=TRUE;CN="Michael 
 Jackson":http://mycorgi.com/profile/MichaelJackson
ATTENDEE;ROLE=REQ-PARTICIPANT;PARTSTAT=ACCEPTED;RSVP=TRUE;CN="Solomon 
 & Naomi's Page":http://mycorgi.com/profile/DebraLeighAlewine
ATTENDEE;ROLE=REQ-PARTICIPANT;PARTSTAT=TENTATIVE;RSVP=TRUE;CN="Michael
 a Ostara":http://mycorgi.com/profile/MichaelaOstara
END:VEVENT
END:VCALENDAR
