BEGIN:VCALENDAR
PRODID:NingEventWidget-v1
VERSION:2.0
METHOD:PUBLISH
BEGIN:VEVENT
UID:1150197:Event:794753
DTSTAMP:20260423T150010Z
SUMMARY:Voting for Penni..corgi recently paralyzed!
DESCRIPTION:help! Last minute classic99.5 has a contest. on facebook c
 lick on the linkmto \"like the site\" then go to Pet Idol of the week 
 contest and hit like on Penni the sable corgis page.\n\nFor more infor
 mation visit http://mycorgi.com/events/voting-for-pennicorgi-recently
DTSTART:20101107T040000Z
DTEND:20101108T045900Z
CATEGORIES:voting, for, penni, the, dog, who, was, recently, "parayliz
 ed!"
LOCATION:Everywhere!
WEBSITE:http://www.facebook.com/photo.php?fbid=10150319165640078&set=a
 .10150319164475078.574493.10150090329700078
URL:http://www.facebook.com/photo.php?fbid=10150319165640078&set=a.101
 50319164475078.574493.10150090329700078
CONTACT:
ORGANIZER;CN="Liz Hart":http://mycorgi.com/profile/LizHarat
ATTACH;FMTTYPE="image/jpeg":
ATTENDEE;ROLE=REQ-PARTICIPANT;PARTSTAT=ACCEPTED;RSVP=TRUE;CN="Liz Hart
 ":http://mycorgi.com/profile/LizHarat
END:VEVENT
END:VCALENDAR
