BEGIN:VCALENDAR
PRODID:NingEventWidget-v1
VERSION:2.0
METHOD:PUBLISH
BEGIN:VEVENT
UID:1150197:Event:974245
DTSTAMP:20260419T193255Z
SUMMARY:Walk for Animals 2011 MN
DESCRIPTION:Come join us in the Walk for Animals 2011 to benefit the A
 nimal Humane Society of MN! Team CorgiPals has signed up to do the wal
 k and we are looking for more team members and sponsors. Please make a
 n effort to join us for the 5-mile walk and enjoy the spring weather f
 or a good cause!\n \nMore info available on the Animal Humane Society
  website below.\n \nJoin Team or Sponsor CorgiPals\nSponsor Dexter\nC
 orgiPals Blog\nDexter's Blog\n\nFor more information visit http://myco
 rgi.com/events/walk-for-animals-2011-mn
DTSTART:20110430T123000Z
DTEND:20110430T180000Z
CATEGORIES:fundraiser, walk
LOCATION:Golden Valley Animal Humane Society
WEBSITE:http://events.animalhumanesociety.org/site/PageNavigator/walk2
 011
URL:http://events.animalhumanesociety.org/site/PageNavigator/walk2011
CONTACT:952-913-1811 - Paige's Cell if you have questions
ORGANIZER;CN="Paige, Dexter & Violet":http://mycorgi.com/profile/Paige
 KDavis
ATTACH;FMTTYPE="image/jpeg":http://storage.ning.com/topology/rest/1.0/
 file/get/3155966865?profile=original
ATTENDEE;ROLE=REQ-PARTICIPANT;PARTSTAT=ACCEPTED;RSVP=TRUE;CN="Paige, D
 exter & Violet":http://mycorgi.com/profile/PaigeKDavis
END:VEVENT
END:VCALENDAR
