BEGIN:VCALENDAR
PRODID:NingEventWidget-v1
VERSION:2.0
METHOD:PUBLISH
BEGIN:VEVENT
UID:1150197:Event:1850479
DTSTAMP:20260420T113225Z
SUMMARY:Western PA Corgi Meetup
DESCRIPTION:Brand new Corgi meet up for 2014. The date has changed to 
 May 18 a Sunday I hope some some of you can make it! Please visit my M
 eetup.com website also\nhttp://www.meetup.com/Western-PA-Corgi-Meetup-
 Group/events/168411452/#event-comments-section\n\nFor more information
  visit http://mycorgi.com/events/western-pa-corgi-meetup
DTSTART:20140518T190000Z
DTEND:20140518T210000Z
CATEGORIES:corgi, meet, up
LOCATION:Jäger and Friends Dog Park
WEBSITE:https://maps.google.com/maps?hl=en&q=Jager+and+Friends+Dog+par
 k+Somerset+Pa&ie=UTF-8&ei=4igoU4KBJqTA0gHJu4CABw&ved=0CAkQ_AUoAA
URL:https://maps.google.com/maps?hl=en&q=Jager+and+Friends+Dog+park+So
 merset+Pa&ie=UTF-8&ei=4igoU4KBJqTA0gHJu4CABw&ved=0CAkQ_AUoAA
CONTACT:8142790684
ORGANIZER;CN="Lauren Esherick":http://mycorgi.com/profile/LaurenEsheri
 ck
ATTACH;FMTTYPE="image/jpeg":http://storage.ning.com/topology/rest/1.0/
 file/get/3156147413?profile=original
ATTENDEE;ROLE=REQ-PARTICIPANT;PARTSTAT=ACCEPTED;RSVP=TRUE;CN="Lauren E
 sherick":http://mycorgi.com/profile/LaurenEsherick
END:VEVENT
END:VCALENDAR
